BEGIN:VCALENDAR
VERSION:2.0
PRODID:-//ChamberMaster//Event Calendar 2.0//EN
METHOD:PUBLISH
X-PUBLISHED-TTL:P3D
REFRESH-INTERVAL:P3D
CALSCALE:GREGORIAN
BEGIN:VEVENT
DTSTART:20191031T223000Z
DTEND:20191101T010000Z
X-MICROSOFT-CDO-ALLDAYEVENT:FALSE
SUMMARY:FESTIVAL @ Bethel Church
DESCRIPTION:5:30 PM: Food\, Games & Candy\n\n7:15 PM: Prizes\n\n7:30 PM: Trunk 'r Treat\n\n\n\nEnjoy a bunch of games for all ages\, hot dogs and lots of candy!\n\n\n\n*Suggested donation of one bag of candy per family\n\n*Come to this FREE event dressed in your most creative costume!
X-ALT-DESC;FMTTYPE=text/html:<div class="_63ew" data-testid="event-permalink-details"><span>5:30 PM: Food\, Games &amp\; Candy<br />\n7:15 PM: Prizes<br />\n7:30 PM: Trunk &#39\;r Treat<br />\n<br />\nEnjoy a bunch of games for all ages\, hot dogs and lots of candy!<br />\n<br />\n*Suggested donation of one bag of candy per family<br />\n*Come to this FREE event dressed in your most creative costume!</span></div>\n
LOCATION:Bethel Lutheran Church 702 W Alcott Ave Fergus Falls
UID:e.314.55787
SEQUENCE:3
DTSTAMP:20260422T204102Z
URL:https://business.fergusfalls.com/events/details/festival-bethel-church-55787
END:VEVENT

END:VCALENDAR
