BEGIN:VCALENDAR
VERSION:2.0
PRODID:-//ChamberMaster//Event Calendar 2.0//EN
METHOD:PUBLISH
X-PUBLISHED-TTL:P3D
REFRESH-INTERVAL:P3D
CALSCALE:GREGORIAN
BEGIN:VEVENT
DTSTART:20190418T230000Z
DTEND:20190419T013000Z
X-MICROSOFT-CDO-ALLDAYEVENT:FALSE
SUMMARY:Festival of Cultures
DESCRIPTION:Festival of Cultures @ M State Fergus Falls campus\n\nCultural Music\n\nDance\n\nFood\n\nGames\n\nArts & Crafts\n\nFREE & Family Friendly
X-ALT-DESC;FMTTYPE=text/html:Festival of Cultures @ M State Fergus Falls campus<br />\nCultural Music<br />\nDance<br />\nFood<br />\nGames<br />\nArts &amp\; Crafts<br />\nFREE &amp\; Family Friendly
LOCATION:M State Ferugs Falls
UID:e.314.52815
SEQUENCE:3
DTSTAMP:20260423T075802Z
URL:https://business.fergusfalls.com/events/details/festival-of-cultures-52815
END:VEVENT

END:VCALENDAR
