BEGIN:VCALENDAR
VERSION:2.0
PRODID:-//ChamberMaster//Event Calendar 2.0//EN
METHOD:PUBLISH
X-PUBLISHED-TTL:P3D
REFRESH-INTERVAL:P3D
CALSCALE:GREGORIAN
BEGIN:VEVENT
DTSTART:20200115T173000Z
DTEND:20200115T190000Z
X-MICROSOFT-CDO-ALLDAYEVENT:FALSE
SUMMARY:FF Area NOW
DESCRIPTION:Fergus Falls Area National Organization for Women monthly meeting
X-ALT-DESC;FMTTYPE=text/html:Fergus Falls Area National Organization for Women monthly meeting
LOCATION:Hunan Spring back dining area
UID:e.314.56033
SEQUENCE:3
DTSTAMP:20260422T171934Z
URL:https://business.fergusfalls.com/events/details/ff-area-now-01-15-2020-56033
END:VEVENT

END:VCALENDAR
