BEGIN:VCALENDAR
VERSION:2.0
PRODID:-//ChamberMaster//Event Calendar 2.0//EN
METHOD:PUBLISH
X-PUBLISHED-TTL:P3D
REFRESH-INTERVAL:P3D
CALSCALE:GREGORIAN
BEGIN:VEVENT
DTSTART:20191016T163000Z
DTEND:20191016T180000Z
X-MICROSOFT-CDO-ALLDAYEVENT:FALSE
SUMMARY:FF Area NOW
DESCRIPTION:FF Area chapter of the National Organization for Women. Monthly meeting.
X-ALT-DESC;FMTTYPE=text/html:FF Area chapter of the National Organization for Women. Monthly meeting.
LOCATION:The Spot\, Fergus Falls
UID:e.314.54813
SEQUENCE:3
DTSTAMP:20260422T203539Z
URL:https://business.fergusfalls.com/events/details/ff-area-now-54813
END:VEVENT

END:VCALENDAR
