BEGIN:VCALENDAR
VERSION:2.0
PRODID:-//ChamberMaster//Event Calendar 2.0//EN
METHOD:PUBLISH
X-PUBLISHED-TTL:P3D
REFRESH-INTERVAL:P3D
CALSCALE:GREGORIAN
BEGIN:VEVENT
DTSTART:20190223T013000Z
DTEND:20190223T030000Z
X-MICROSOFT-CDO-ALLDAYEVENT:FALSE
SUMMARY:FF Concert Association - Chris Brubeck's Triple Play
DESCRIPTION:Trio led by Chris Brubeck\, son of Dave Brubeck\, on piano\, electric bass\, trombone & vocals \n\n\n\nJoel Brown on guitar/vocals \n\n\n\nPeter 'Madcat' Ruth on multiple harmonicas & vocal \n\n\n\nAmerican music seamlessly blending jazz\, blues\, folk & rock into a rollicking program
X-ALT-DESC;FMTTYPE=text/html:<span style="color: rgb(34\, 34\, 34)\; font-family: century gothic\,arial\,helvetica\,sans-serif\; background-color: rgb(237\, 237\, 226)\;">Trio led by Chris Brubeck\, son of Dave Brubeck\, on piano\, electric bass\, trombone &amp\; vocals&nbsp\;</span><br />\n<br />\n<span style="color: rgb(34\, 34\, 34)\; font-family: century gothic\,arial\,helvetica\,sans-serif\; background-color: rgb(237\, 237\, 226)\;">Joel Brown on guitar/vocals&nbsp\;</span><br />\n<br />\n<span style="color: rgb(34\, 34\, 34)\; font-family: century gothic\,arial\,helvetica\,sans-serif\; background-color: rgb(237\, 237\, 226)\;">Peter &#39\;Madcat&#39\; Ruth on multiple harmonicas &amp\; vocal&nbsp\;</span><br />\n<br />\n<span style="color: rgb(34\, 34\, 34)\; font-family: century gothic\,arial\,helvetica\,sans-serif\; background-color: rgb(237\, 237\, 226)\;">American music seamlessly blending jazz\, blues\, folk &amp\; rock into a rollicking program&nbsp\;</span>
LOCATION:Kennedy Secondary School 601 Randolph Ave Fergus Falls\, MN 56537
UID:e.314.50409
SEQUENCE:3
DTSTAMP:20260423T105951Z
URL:https://business.fergusfalls.com/events/details/ff-concert-association-chris-brubeck-s-triple-play-50409
END:VEVENT

END:VCALENDAR
