BEGIN:VCALENDAR
VERSION:2.0
PRODID:-//ChamberMaster//Event Calendar 2.0//EN
METHOD:PUBLISH
X-PUBLISHED-TTL:P3D
REFRESH-INTERVAL:P3D
CALSCALE:GREGORIAN
BEGIN:VEVENT
DTSTART:20190315T003000Z
DTEND:20190315T020000Z
X-MICROSOFT-CDO-ALLDAYEVENT:FALSE
SUMMARY:FF Concert Association - Lysander Piano Trio
DESCRIPTION:Classical program\, superb musicianship \n\n\n\nItamar Zorman\, violin \n\nLiza Stepanova\, piano \n\nMichael Katz\, cello \n\n\n\nTrio was formed in 2009 at Juilliard \n\n\n\nTop honors at the 2010 Fischoff National Chamber Music Competition\, the 2011 Coleman Chamber Ensemble Competition (Grand Prize)\, and the 2011 J. C. Arriaga Chamber Music Competition (First Prize).
X-ALT-DESC;FMTTYPE=text/html:Classical program\, superb musicianship&nbsp\;<br />\n<br />\nItamar Zorman\, violin&nbsp\;<br />\nLiza Stepanova\, piano&nbsp\;<br />\nMichael Katz\, cello&nbsp\;<br />\n<br />\nTrio was formed in 2009 at Juilliard&nbsp\;<br />\n<br />\nTop honors at the 2010 Fischoff National Chamber Music Competition\, the 2011 Coleman Chamber Ensemble Competition (Grand Prize)\, and the 2011 J. C. Arriaga Chamber Music Competition (First Prize).
LOCATION:Kennedy Secondary School 601 Randolph Ave Fergus Falls\, MN 56537
UID:e.314.50410
SEQUENCE:3
DTSTAMP:20260423T080434Z
URL:https://business.fergusfalls.com/events/details/ff-concert-association-lysander-piano-trio-50410
END:VEVENT

END:VCALENDAR
