BEGIN:VCALENDAR
VERSION:2.0
PRODID:-//ChamberMaster//Event Calendar 2.0//EN
METHOD:PUBLISH
X-PUBLISHED-TTL:P3D
REFRESH-INTERVAL:P3D
CALSCALE:GREGORIAN
BEGIN:VEVENT
DTSTART:20190406T003000Z
DTEND:20190406T020000Z
X-MICROSOFT-CDO-ALLDAYEVENT:FALSE
SUMMARY:FF Concert Association - The Jersey Tenors
DESCRIPTION:4 tenors with tracked accompaniment \n\n\n\n"Popera" mash-up: classic opera arias & Beach Boys\; Sinatra and Elton John\; all favorites \n\n\n\n3 singers w/ Broadway credits and 1 with NY City Opera credits
X-ALT-DESC;FMTTYPE=text/html:4 tenors with tracked accompaniment&nbsp\;<br />\n<br />\n&quot\;Popera&quot\; mash-up: classic opera arias &amp\; Beach Boys\; Sinatra and Elton John\; all favorites&nbsp\;<br />\n<br />\n3 singers w/ Broadway credits and 1 with NY City Opera credits
LOCATION:Kennedy Secondary School 601 Randolph Ave Fergus Falls\, MN 56537
UID:e.314.50411
SEQUENCE:3
DTSTAMP:20260423T063212Z
URL:https://business.fergusfalls.com/events/details/ff-concert-association-the-jersey-tenors-50411
END:VEVENT

END:VCALENDAR
