BEGIN:VCALENDAR
VERSION:2.0
PRODID:-//ChamberMaster//Event Calendar 2.0//EN
METHOD:PUBLISH
X-PUBLISHED-TTL:P3D
REFRESH-INTERVAL:P3D
CALSCALE:GREGORIAN
BEGIN:VEVENT
DTSTART:20180412T000000Z
DTEND:20180412T013000Z
X-MICROSOFT-CDO-ALLDAYEVENT:FALSE
SUMMARY:FF Farmers Market Vendor Meeting
DESCRIPTION:Thinking about joining us at the Fergus Falls Farmers Market this summer? Our 2018 Vendor Information Meeting will be at the American Legion bingo hall on Pebble Lake Road South. We will be discussing the coming summer season\, changes if any\, the policies for the smooth running of the market\, ideas to improve the market\, and the future in general for the market. We would love to have you join us\, no obligation to join\, just information about us. Dessert is provided! See you then!
X-ALT-DESC;FMTTYPE=text/html:Thinking about joining us at the Fergus Falls Farmers Market this summer? Our 2018 Vendor Information Meeting will be at the American Legion bingo hall on Pebble Lake Road South. We will be discussing the coming summer season\, changes if any\, the policies for the smooth running of the market\, ideas to improve the market\, and the future in general for the market. We would love to have you join us\, no obligation to join\, just information about us. Dessert is provided! See you then!
LOCATION:FF American Legion on South Pebble Lake Road (Hwy 59 South).
UID:e.314.47654
SEQUENCE:3
DTSTAMP:20260424T000054Z
URL:https://business.fergusfalls.com/events/details/ff-farmers-market-vendor-meeting-47654
END:VEVENT

END:VCALENDAR
