BEGIN:VCALENDAR
VERSION:2.0
PRODID:-//ChamberMaster//Event Calendar 2.0//EN
METHOD:PUBLISH
X-PUBLISHED-TTL:P3D
REFRESH-INTERVAL:P3D
CALSCALE:GREGORIAN
BEGIN:VEVENT
DTSTART:20190509T210000Z
DTEND:20190511T210000Z
X-MICROSOFT-CDO-ALLDAYEVENT:FALSE
SUMMARY:FF Festival of Quilts
DESCRIPTION:2019 - 9th Biennial Quilt Show & Conference..."Beyond The Bed Quilt" . Come and see all the beautiful quilts that are made by many local "artists". There will be quilt shop vendors\, lunch vendor\, silent auctions and much more to see.
X-ALT-DESC;FMTTYPE=text/html:2019 - 9th Biennial Quilt Show &amp\; Conference...&quot\;Beyond The Bed Quilt&quot\; . Come and see all the beautiful quilts that are made by many local &quot\;artists&quot\;. There will be quilt shop vendors\, lunch vendor\, silent auctions and much more to see.
LOCATION:Fergus Falls Community Arena 345 Friberg Ave Fergus Falls MN 56537
UID:e.314.53870
SEQUENCE:3
DTSTAMP:20260423T050640Z
URL:https://business.fergusfalls.com/events/details/ff-festival-of-quilts-53870
END:VEVENT

END:VCALENDAR
