BEGIN:VCALENDAR
VERSION:2.0
PRODID:-//ChamberMaster//Event Calendar 2.0//EN
METHOD:PUBLISH
X-PUBLISHED-TTL:P3D
REFRESH-INTERVAL:P3D
CALSCALE:GREGORIAN
BEGIN:VEVENT
DTSTART:20151005T220000Z
DTEND:20151006T000000Z
X-MICROSOFT-CDO-ALLDAYEVENT:FALSE
SUMMARY:FF Firefighter's Spaghetti Cook-Off & Open House
DESCRIPTION:Fergus Falls Firefighter's Association\n\nFire Station \n\nSpaghetti Cook-Off \n\n& Open House \n\n\n\nMonday\, Oct 5\, 2015 at 325 East Washington Ave\n\n\n\n5pm-7pm or while supplies last\n\n\n\n~ Free Will Offering Accepted ~\n\n\n\nFire Prevention Activities on the front apron weather permitting:\n\nFire Prevention Bounce House\n\nSquirt House
X-ALT-DESC;FMTTYPE=text/html:<strong><span style="font-size: 18px\;">Fergus Falls Firefighter&#39\;s Association<br />\n<span style="color: rgb(255\, 0\, 0)\;">Fire Station </span><br />\n<span style="color: rgb(255\, 140\, 0)\;">Spaghetti Cook-Off </span><br />\n<span style="color: rgb(255\, 0\, 0)\;">&amp\; Open House </span></span></strong><br />\n<br />\n<span style="color: rgb(0\, 0\, 255)\;"><strong>Monday\, Oct 5\, 2015 at 325 East Washington Ave<br />\n<br />\n5pm-7pm or while supplies last</strong></span><br />\n<br />\n<strong><span style="color: rgb(0\, 0\, 255)\;">~ Free Will Offering Accepted ~</span></strong><br />\n<br />\n<em><span style="color: rgb(0\, 0\, 0)\;"><span style="font-size: 12px\;">Fire Prevention Activities on the front apron weather permitting:</span></span></em><br />\n<span style="color: rgb(255\, 0\, 0)\;"><strong>Fire Prevention Bounce House<br />\nSquirt House</strong></span>
LOCATION:Fire Station 325 East Washington Ave.
UID:e.314.24371
SEQUENCE:3
DTSTAMP:20260426T030132Z
URL:https://business.fergusfalls.com/events/details/ff-firefighter-s-spaghetti-cook-off-open-house-10-05-2015-24371
END:VEVENT

END:VCALENDAR
