BEGIN:VCALENDAR
VERSION:2.0
PRODID:-//ChamberMaster//Event Calendar 2.0//EN
METHOD:PUBLISH
X-PUBLISHED-TTL:P3D
REFRESH-INTERVAL:P3D
CALSCALE:GREGORIAN
BEGIN:VEVENT
DTSTART:20180511T114500Z
DTEND:20180511T130000Z
X-MICROSOFT-CDO-ALLDAYEVENT:FALSE
SUMMARY:FF Kiwanis Annual Prayer Breakfast
DESCRIPTION:Fergus Falls Noon Kiwanis Annual Prayer Breakfast
X-ALT-DESC;FMTTYPE=text/html:Fergus Falls Noon Kiwanis Annual Prayer Breakfast
LOCATION:Grace United Methodist Church 1100 Friberg Ave. FF
UID:e.314.48841
SEQUENCE:3
DTSTAMP:20260423T235156Z
URL:https://business.fergusfalls.com/events/details/ff-kiwanis-annual-prayer-breakfast-48841
END:VEVENT

END:VCALENDAR
