BEGIN:VCALENDAR
VERSION:2.0
PRODID:-//ChamberMaster//Event Calendar 2.0//EN
METHOD:PUBLISH
X-PUBLISHED-TTL:P3D
REFRESH-INTERVAL:P3D
CALSCALE:GREGORIAN
BEGIN:VEVENT
DTSTART:20180906T223000Z
DTEND:20180906T233000Z
X-MICROSOFT-CDO-ALLDAYEVENT:FALSE
SUMMARY:FF Nar-Anon Family Group
DESCRIPTION:Nar-Anon Family Groups is a worldwide fellowship for the family and friends of those suffering from the disease of addiction. As a Twelve-Step program\, we offer our help by sharing our experience\, strength\, and hope. The Nar-Anon program is based on a set of spiritual principles and has no affiliation with any particular denomination. We have no dues or fees. The only requirement for membership is a problem of addiction in a relative or friend.
X-ALT-DESC;FMTTYPE=text/html:Nar-Anon Family Groups is a worldwide fellowship for the family and friends of those suffering from the disease of addiction. As a Twelve-Step program\, we offer our help by sharing our experience\, strength\, and hope. The Nar-Anon program is based on a set of spiritual principles and has no affiliation with any particular denomination. We have no dues or fees. The only requirement for membership is a problem of addiction in a relative or friend.
LOCATION:202 E. Summit Ave (Zion Church) Fergus Falls\, MN
UID:e.314.50336
SEQUENCE:3
DTSTAMP:20260423T181451Z
URL:https://business.fergusfalls.com/events/details/ff-nar-anon-family-group-09-06-2018-50336
END:VEVENT

END:VCALENDAR
