BEGIN:VCALENDAR
VERSION:2.0
PRODID:-//ChamberMaster//Event Calendar 2.0//EN
METHOD:PUBLISH
X-PUBLISHED-TTL:P3D
REFRESH-INTERVAL:P3D
CALSCALE:GREGORIAN
BEGIN:VEVENT
DTSTART:20180830T223000Z
DTEND:20180830T233000Z
X-MICROSOFT-CDO-ALLDAYEVENT:FALSE
SUMMARY:FF Nar-Anon Family Group
DESCRIPTION:The Nar-Anon Family Groups are a worldwide fellowship for those affected by someone else's addiction. As a twelve-step program\, we offer our help by sharing our experience\, strength\, and hope. The Nar-Anon program is based on a set of spiritual principles and has no affiliation with any particular denomination. Thursdays 5:30 PM
X-ALT-DESC;FMTTYPE=text/html:The Nar-Anon Family Groups are a worldwide fellowship for those affected by someone else&rsquo\;s addiction. As a twelve-step program\, we offer our help by sharing our experience\, strength\, and hope. The Nar-Anon program is based on a set of spiritual principles and has no affiliation with any particular denomination. Thursdays 5:30 PM
LOCATION:202 E. Summit Ave (Zion Church) Fergus Falls\, MN
UID:e.314.50335
SEQUENCE:3
DTSTAMP:20260423T193907Z
URL:https://business.fergusfalls.com/events/details/ff-nar-anon-family-group-50335
END:VEVENT

END:VCALENDAR
