BEGIN:VCALENDAR
VERSION:2.0
PRODID:-//ChamberMaster//Event Calendar 2.0//EN
METHOD:PUBLISH
X-PUBLISHED-TTL:P3D
REFRESH-INTERVAL:P3D
CALSCALE:GREGORIAN
BEGIN:VEVENT
DTSTART:20181013T190000Z
DTEND:20181013T193000Z
X-MICROSOFT-CDO-ALLDAYEVENT:FALSE
SUMMARY:FF Noon Kiwanis Service Sweep
DESCRIPTION:FF Noon Kiwanis Service Sweep\n\n\n Hosted by Fergus Falls Noon Kiwanis\n\n\n\n \n\nGet your tickets for the annual FF Noon Kiwanis Service Sweep! $10/ticket for your chance to win a 2-minute shopping spree at Service Food! In addition\, 3 lucky winners will receive a $25 gift card to Service Food. Drawing will be held Tuesday\, October 9. Get your tickets today from a Noon Kiwanis member or from Service Food.\n\n\n\nHot dogs with chips will be served to raise money for children in Fergus Falls and surrounding areas from noon-2pm before the event. Even if you don't win the sweep\, please join us for hot dogs and watch as someone races to put as many groceries in their cart as possible in two minutes!
X-ALT-DESC;FMTTYPE=text/html:<div class="_5gmw">\n<h1 class="_5gmx" data-testid="event-permalink-event-name" id="seo_h1_tag">FF Noon Kiwanis Service Sweep</h1>\n\n<div class="_5gnb">\n<div content="Fergus Falls Noon Kiwanis" data-testid="event_permalink_feature_line" style="display: inline\;"><span data-testid="event_permalink_privacy">&nbsp\;Hosted by <a data-hovercard="/ajax/hovercard/page.php?id=1626538517419235" data-hovercard-position="below" href="https://www.facebook.com/fergusfallsnoonkiwanis/"><font color="#0066cc">Fergus Falls Noon Kiwanis</font></a></span><br />\n<br />\n&nbsp\;</div>\n\n<div class="_63ew" data-testid="event-permalink-details"><span>Get your tickets for the annual FF Noon Kiwanis Service Sweep! $10/ticket for your chance to win a 2-minute shopping spree at Service Food! In addition\, 3 lucky winners will receive a $25 gift card to Service Food. Drawing will be held Tuesday\, October 9. Get your tickets today from a Noon Kiwanis member or from Service Food.<br />\n<br />\nHot dogs with chips will be served to raise money for children in Fergus Falls and surrounding areas from noon-2pm before the event. Even if you don&#39\;t win the sweep\, please join us for hot dogs and watch as someone races to put as many groceries in their cart as possible in two minutes!</span></div>\n\n<div content="Fergus Falls Noon Kiwanis" data-testid="event_permalink_feature_line" style="display: inline\;">&nbsp\;</div>\n</div>\n</div>\n
LOCATION:Service Food 321 W Lincoln Ave Fergus Falls MN
UID:e.314.50339
SEQUENCE:3
DTSTAMP:20260423T150643Z
URL:https://business.fergusfalls.com/events/details/ff-noon-kiwanis-service-sweep-50339
END:VEVENT

END:VCALENDAR
