BEGIN:VCALENDAR
VERSION:2.0
PRODID:-//ChamberMaster//Event Calendar 2.0//EN
METHOD:PUBLISH
X-PUBLISHED-TTL:P3D
REFRESH-INTERVAL:P3D
CALSCALE:GREGORIAN
BEGIN:VEVENT
DTSTART:20191005T190000Z
DTEND:20191005T193000Z
X-MICROSOFT-CDO-ALLDAYEVENT:FALSE
SUMMARY:FF Noon Kiwanis Service Sweep
DESCRIPTION:Get your tickets for the annual FF Noon Kiwanis Service Sweep! $10/ticket for your chance to win a 2-minute shopping spree at Service Food! In addition\, 3 lucky winners will receive a $25 gift card to Service Food. Drawing will be held Tuesday\, October 1st. Get your tickets today from a Noon Kiwanis member or from Service Food. All money raised from the event will go directly to benefit children in Fergus Falls and surrounding communities.\n\n\n\nHot dogs with chips will be served to raise money for children in Fergus Falls and surrounding areas from 11-1 before the event. Even if you don't win the sweep\, please join us for hot dogs and watch as someone races to put as many groceries in their cart as possible in two minutes!
X-ALT-DESC;FMTTYPE=text/html:<div class="_63ew" data-testid="event-permalink-details"><span>Get your tickets for the annual FF Noon Kiwanis Service Sweep! $10/ticket for your chance to win a 2-minute shopping spree at Service Food! In addition\, 3 lucky winners will receive a $25 gift card to Service Food. Drawing will be held Tuesday\, October 1st. Get your tickets today from a Noon Kiwanis member or from Service Food. All money raised from the event will go directly to benefit children in Fergus Falls and surrounding communities.<br />\n<br />\nHot dogs with chips will be served to raise money for children in Fergus Falls and surrounding areas from 11-1 before the event. Even if you don&#39\;t win the sweep\, please join us for hot dogs and watch as someone races to put as many groceries in their cart as possible in two minutes!</span></div>\n
LOCATION:Service Food Market Fergus Falls 321 W Lincoln Ave\, Fergus Falls\, Minnesota 56537
UID:e.314.54573
SEQUENCE:3
DTSTAMP:20260422T203642Z
URL:https://business.fergusfalls.com/events/details/ff-noon-kiwanis-service-sweep-54573
END:VEVENT

END:VCALENDAR
