BEGIN:VCALENDAR
VERSION:2.0
PRODID:-//ChamberMaster//Event Calendar 2.0//EN
METHOD:PUBLISH
X-PUBLISHED-TTL:P3D
REFRESH-INTERVAL:P3D
CALSCALE:GREGORIAN
BEGIN:VEVENT
DTSTART:20190929T180000Z
DTEND:20190930T000000Z
X-MICROSOFT-CDO-ALLDAYEVENT:FALSE
SUMMARY:FF Police versus FF Fire Department softball game
DESCRIPTION:The annual Fergus Falls Police versus Fire Department softball game. Come out for an afternoon/evening of entertainment and food. (Don Pablo's catering)\n\n\n\nThe softball game start time is scheduled for 5:00 pm.\n\n\n\n1:00 pm - 5:00 pm is set aside for kids kickball.\n\nIf you have kids between the ages of 5-13 that would be interested in playing send me a message with your interest and age of child. If there is a large enough response and interest will spit up the kids into age groups and play kickball games within their age range. Will set up the times of the games depending on the numbers interested. A representative(s) from the police department or fire department will participate and play with the kids teams.
X-ALT-DESC;FMTTYPE=text/html:<span>The annual Fergus Falls Police versus Fire Department softball game. Come out for an afternoon/evening of entertainment and food. (Don Pablo&rsquo\;s catering)<br />\n<br />\nThe softball game start time is scheduled for 5:00 pm.<br />\n<br />\n1:00 pm - 5:00 pm is set aside for kids kickball.<br />\nIf you have kids between the ages of 5-13 that would be interested in playing send me a message with your interest and age of child. If there is a large enough response and interest will spit up the kids into age groups and play kickball games within their age range. Will set up the times of the games depending on the numbers interested. A representative(s) from the police department or fire department will participate and play with the kids teams.</span>
LOCATION:Delagoon Softball Complex Fergus Falls\, Minnesota 56537
UID:e.314.54569
SEQUENCE:3
DTSTAMP:20260422T222803Z
URL:https://business.fergusfalls.com/events/details/ff-police-versus-ff-fire-department-softball-game-54569
END:VEVENT

END:VCALENDAR
