BEGIN:VCALENDAR
VERSION:2.0
PRODID:-//ChamberMaster//Event Calendar 2.0//EN
METHOD:PUBLISH
X-PUBLISHED-TTL:P3D
REFRESH-INTERVAL:P3D
CALSCALE:GREGORIAN
BEGIN:VEVENT
DTSTART:20191022T003000Z
DTEND:20191022T023000Z
X-MICROSOFT-CDO-ALLDAYEVENT:FALSE
SUMMARY:FFCA - Ball in the House
DESCRIPTION:Ball in the House is the first concert of the Fergus Falls Concert Association's 2019-2020 season!\n\n\n\nBall in the House is an R&B/Soul/Pop a cappella group that has been entertaining audiences of all ages for over 18 years. Taking a cappella to the next stage\, Ball in the House makes "music that'll move ya" with classics like "My Girl\," "Stayin Alive\," "YMCA\," "Blank Space\," "Signed Sealed Delivered\," "That's the Way I Like It\," and many more.\n\n\n\nAdmission is by membership only.\n\nSeason membership:\n\n$45 - Individual Adult\n\n$10 - Individual Student\n\n$100 - Family (2 adults + any student children or grandchildren)\n\n\n\nContact Anne Worner at 218-736-6082 or check out www.fergusfallsconcerts.com for membership information!
X-ALT-DESC;FMTTYPE=text/html:<span>Ball in the House is the first concert of the Fergus Falls Concert Association&#39\;s 2019-2020 season!<br />\n<br />\nBall in the House is an R&amp\;B/Soul/Pop a cappella group that has been entertaining audiences of all ages for over 18 years. Taking a cappella to the next stage\, Ball in the House makes &quot\;music that&#39\;ll move ya&quot\; with classics like &quot\;My Girl\,&quot\; &quot\;Stayin Alive\,&quot\; &quot\;YMCA\,&quot\; &quot\;Blank Space\,&quot\; &quot\;Signed Sealed Delivered\,&quot\; &quot\;That&#39\;s the Way I Like It\,&quot\; and many more.<br />\n<br />\nAdmission is by membership only.<br />\nSeason membership:<br />\n$45 - Individual Adult<br />\n$10 - Individual Student<br />\n$100 - Family (2 adults + any student children or grandchildren)<br />\n<br />\nContact Anne Worner at 218-736-6082 or check out <a data-lynx-mode="hover" href="http://l.facebook.com/l.php?u=http%3A%2F%2Fwww.fergusfallsconcerts.com%2F%3Ffbclid%3DIwAR3KV23Vgrxp_BToOU0fdNSB1LuhjeTn88Odeb4Nrld2WmDfQwES3WxWkNU&amp\;h=AT1U37g8YXgONwA0kjC_Vc4PehFqObFd95W5L3NC0hees53D2tIYSaI_s-Usks7mQiVMQNvS8FLINzPf0s2NGDIdEVqXRzxzSEab2qVa5l6qIHCHmseHCmLZ-8I5wcpydw" rel="nofollow" target="_blank"><font color="#0066cc">www.fergusfallsconcerts.com</font></a> for membership information!</span>
LOCATION:Kennedy Secondary School - Fergus Falls 601 Randolph Ave\, Fergus Falls
UID:e.314.54579
SEQUENCE:3
DTSTAMP:20260422T203755Z
URL:https://business.fergusfalls.com/events/details/ffca-ball-in-the-house-54579
END:VEVENT

END:VCALENDAR
