BEGIN:VCALENDAR
VERSION:2.0
PRODID:-//ChamberMaster//Event Calendar 2.0//EN
METHOD:PUBLISH
X-PUBLISHED-TTL:P3D
REFRESH-INTERVAL:P3D
CALSCALE:GREGORIAN
BEGIN:VEVENT
DTSTART:20180429T123000Z
DTEND:20180429T180000Z
X-MICROSOFT-CDO-ALLDAYEVENT:FALSE
SUMMARY:FFFD Pancake Feed Fundraiser
DESCRIPTION:This is a fundraising event for the Fergus Falls Firefighters Association. We invite everyone from the area to come down to the Fergus Falls Fire Department and enjoy scrambled eggs\, sausage links\, coffee\, milk\, and all the pancakes you can eat! Adults are $7.00\, children 6 - 12 years are $4.00\, and Kids 5 and under eat free. Come down and enjoy the socializing\, look forward to seeing you there.
X-ALT-DESC;FMTTYPE=text/html:<span class="_4n-j _fbReactionComponent__eventDetailsContentTags fsl" data-testid="event-permalink-details">This is a fundraising event for the Fergus Falls Firefighters Association. We invite everyone from the area to come down to the Fergus Falls Fire Department and enjoy scrambled eggs\, sausage links\, coffee\, milk\, and all the pancakes you can eat! Adults are $7.00\, children 6 - 12 years are $4.00\, and Kids 5 and under eat free. Come down and enjoy the socializing\, look forward to seeing you there.</span>
LOCATION:Fergus Falls Fire Department 325 E Washington Ave
UID:e.314.48738
SEQUENCE:3
DTSTAMP:20260423T235122Z
URL:https://business.fergusfalls.com/events/details/fffd-pancake-feed-fundraiser-48738
END:VEVENT

END:VCALENDAR
