BEGIN:VCALENDAR
VERSION:2.0
PRODID:-//ChamberMaster//Event Calendar 2.0//EN
METHOD:PUBLISH
X-PUBLISHED-TTL:P3D
REFRESH-INTERVAL:P3D
CALSCALE:GREGORIAN
BEGIN:VEVENT
DTSTART:20151230T170000Z
DTEND:20151231T010000Z
X-MICROSOFT-CDO-ALLDAYEVENT:FALSE
SUMMARY:FFHS Band Booster Fundraiser at Taco John's
DESCRIPTION:Taco's for Trombones!\n\nTaco John's will donated 25% of its sales on December 30th to the Fergus Falls Band program. No coupon necessary
X-ALT-DESC;FMTTYPE=text/html:Taco&#39\;s for Trombones!<br />\nTaco John&#39\;s will donated 25% of its sales on December 30th to the Fergus Falls Band program. No coupon necessary
LOCATION:Taco John's 1212 N. Union Ave. Fergus Falls\, MN
UID:e.314.27967
SEQUENCE:3
DTSTAMP:20260425T233149Z
URL:https://business.fergusfalls.com/events/details/ffhs-band-booster-fundraiser-at-taco-john-s-12-30-2015-27967
END:VEVENT

END:VCALENDAR
