BEGIN:VCALENDAR
VERSION:2.0
PRODID:-//ChamberMaster//Event Calendar 2.0//EN
METHOD:PUBLISH
X-PUBLISHED-TTL:P3D
REFRESH-INTERVAL:P3D
CALSCALE:GREGORIAN
BEGIN:VEVENT
DTSTART:20191109T010000Z
DTEND:20191108T200000Z
X-MICROSOFT-CDO-ALLDAYEVENT:FALSE
SUMMARY:FFHS Musical Guys and Dolls
DESCRIPTION:Fergus Falls High School musical performance of Guys and Dolls
X-ALT-DESC;FMTTYPE=text/html:Fergus Falls High School musical performance of Guys and Dolls
LOCATION:Kennedy Secondary School Auditorium
UID:e.314.55708
SEQUENCE:3
DTSTAMP:20260422T201524Z
URL:https://business.fergusfalls.com/events/details/ffhs-musical-guys-and-dolls-55708
END:VEVENT

END:VCALENDAR
