BEGIN:VCALENDAR
VERSION:2.0
PRODID:-//ChamberMaster//Event Calendar 2.0//EN
METHOD:PUBLISH
X-PUBLISHED-TTL:P3D
REFRESH-INTERVAL:P3D
CALSCALE:GREGORIAN
BEGIN:VEVENT
DTSTART:20160818T050000Z
DTEND:20160818T050000Z
X-MICROSOFT-CDO-ALLDAYEVENT:FALSE
SUMMARY:FFYHA Online Registration
DESCRIPTION:New this year\, FFYHA will feature online registration for youth hockey. It begins August 15th
X-ALT-DESC;FMTTYPE=text/html:New this year\, FFYHA will feature online registration for youth hockey. It begins August 15th
LOCATION:Online www.fergusfallshockey.org
UID:e.314.32960
SEQUENCE:3
DTSTAMP:20260425T110238Z
URL:https://business.fergusfalls.com/events/details/ffyha-online-registration-08-18-2016-32960
END:VEVENT

END:VCALENDAR
