BEGIN:VCALENDAR
VERSION:2.0
PRODID:-//ChamberMaster//Event Calendar 2.0//EN
METHOD:PUBLISH
X-PUBLISHED-TTL:P3D
REFRESH-INTERVAL:P3D
CALSCALE:GREGORIAN
BEGIN:VEVENT
DTSTART:20151024T233000Z
DTEND:20151025T013000Z
X-MICROSOFT-CDO-ALLDAYEVENT:FALSE
SUMMARY:Fick or Treat...Halloween Movie Night
DESCRIPTION:Fick or Treat...Halloween Movie Night\n\n\n\n$5 advance tickets include free root beer! Showing Hotel Transylvania. Popcorn\, root beer\, and concessions will be available. Get dinner before the show inthe Z103. A special kid-friendly buffet will be set up. $10 adults/$6 for kids (10 and under).
X-ALT-DESC;FMTTYPE=text/html:<span class="title" style="color: rgb(41\, 82\, 163)\;">Fick or Treat...Halloween Movie Night</span><br />\n<br />\n$5 advance tickets include free root beer! Showing Hotel Transylvania. Popcorn\, root beer\, and concessions will be available. Get dinner before the show inthe Z103. A special kid-friendly buffet will be set up. $10 adults/$6 for kids (10 and under).
LOCATION:Bigwood Event Center 925 Western Avenue Fergus Falls\, MN 56537
UID:e.314.24224
SEQUENCE:3
DTSTAMP:20260426T030647Z
URL:https://business.fergusfalls.com/events/details/fick-or-treat-halloween-movie-night-10-24-2015-24224
END:VEVENT

END:VCALENDAR
