BEGIN:VCALENDAR
VERSION:2.0
PRODID:-//ChamberMaster//Event Calendar 2.0//EN
METHOD:PUBLISH
X-PUBLISHED-TTL:P3D
REFRESH-INTERVAL:P3D
CALSCALE:GREGORIAN
BEGIN:VEVENT
DTSTART:20200122T000000Z
DTEND:20200122T010000Z
X-MICROSOFT-CDO-ALLDAYEVENT:FALSE
SUMMARY:Fight Food Waste in Fergus Falls!
DESCRIPTION:Whether it's old carrots or leftovers you never ate\, we all waste food. On average\, a family of four wastes $30 of edible food each week! Because 85% of food waste happens at home\, your action is needed! From Executive Producer Anthony Bourdain - Wasted! The Story of Food Waste will be presented on Tuesday\, January 21\, 2020 at 6:00 p.m. at the Fergus Falls Public Library.\n\n\n\nAlso\, a Food: Too Good to Waste Challenge will be held Monday\, February 3 - Monday\, March 9 at the Fergus Falls Public Library. For more information and to sign up for the challenge\, visit ottertailcountymn.us/foodwaste.\n\n\n\nSponsored by Otter Tail County Solid Waste Department\, Fergus Falls Public Library\, Minnesota Green Corps\, and Community Education.
X-ALT-DESC;FMTTYPE=text/html:Whether it&#39\;s old carrots or leftovers you never ate\, we all waste food. On average\, a family of four wastes $30 of edible food each week! Because 85% of food waste happens at home\, your action is needed! From Executive Producer Anthony Bourdain - Wasted! The Story of Food Waste will be presented on Tuesday\, January 21\, 2020 at 6:00 p.m. at the Fergus Falls Public Library.<br />\n<br />\nAlso\, a Food: Too Good to Waste Challenge will be held Monday\, February 3 - Monday\, March 9 at the Fergus Falls Public Library. For more information and to sign up for the challenge\, visit ottertailcountymn.us/foodwaste.<br />\n<br />\nSponsored by Otter Tail County Solid Waste Department\, Fergus Falls Public Library\, Minnesota Green Corps\, and Community Education.
LOCATION:Fergus Falls Public Library\, 205 E. Hampden Ave.\, Fergus Falls\, MN
UID:e.314.56034
SEQUENCE:3
DTSTAMP:20260422T172418Z
URL:https://business.fergusfalls.com/events/details/fight-food-waste-in-fergus-falls-56034
END:VEVENT

END:VCALENDAR
