BEGIN:VCALENDAR
VERSION:2.0
PRODID:-//ChamberMaster//Event Calendar 2.0//EN
METHOD:PUBLISH
X-PUBLISHED-TTL:P3D
REFRESH-INTERVAL:P3D
CALSCALE:GREGORIAN
BEGIN:VEVENT
DTSTART:20180707T000000Z
DTEND:20180707T013000Z
X-MICROSOFT-CDO-ALLDAYEVENT:FALSE
SUMMARY:Figure Drawing Co-Op
DESCRIPTION:Join a live model and artists of all abilities for a figure drawing session in the basement studio of the Kaddatz Galleries! Short and longer poses explored. $5/ session. First session is free! Email info@kaddatzgalleries.org for more info.
X-ALT-DESC;FMTTYPE=text/html:<span class="_4n-j _3cht fsl" data-testid="event-permalink-details">Join a live model and artists of all abilities for a figure drawing session in the basement studio of the Kaddatz Galleries! Short and longer poses explored. $5/ session. First session is free! Email info@kaddatzgalleries.org for more info.</span>
LOCATION:Kaddatz Galleries 111 W Lincoln Ave\, Fergus Falls
UID:e.314.47393
SEQUENCE:3
DTSTAMP:20260423T212523Z
URL:https://business.fergusfalls.com/events/details/figure-drawing-co-op-07-06-2018-47393
END:VEVENT

END:VCALENDAR
