BEGIN:VCALENDAR
VERSION:2.0
PRODID:-//ChamberMaster//Event Calendar 2.0//EN
METHOD:PUBLISH
X-PUBLISHED-TTL:P3D
REFRESH-INTERVAL:P3D
CALSCALE:GREGORIAN
BEGIN:VEVENT
DTSTART;VALUE=DATE:20200308
DTEND;VALUE=DATE:20200309
TRANSP:TRANSPARENT
X-MICROSOFT-CDO-ALLDAYEVENT:TRUE
SUMMARY:Figure Skating Competition
DESCRIPTION:
X-ALT-DESC;FMTTYPE=text/html:
LOCATION:Fergus Falls Community Arena
UID:e.314.56203
SEQUENCE:3
DTSTAMP:20260422T142733Z
URL:https://business.fergusfalls.com/events/details/figure-skating-competition-03-08-2020-56203
END:VEVENT

END:VCALENDAR
