BEGIN:VCALENDAR
VERSION:2.0
PRODID:-//ChamberMaster//Event Calendar 2.0//EN
METHOD:PUBLISH
X-PUBLISHED-TTL:P3D
REFRESH-INTERVAL:P3D
CALSCALE:GREGORIAN
BEGIN:VEVENT
DTSTART:20150926T000000Z
DTEND:20150926T013000Z
X-MICROSOFT-CDO-ALLDAYEVENT:FALSE
SUMMARY:Figure Study Group
DESCRIPTION:A supportive group that meets weekly to study the human figure. All skill levels welcome and mediums welcome. Nude model\, 18+ only. $8/session.
X-ALT-DESC;FMTTYPE=text/html:<span class="event-description">A supportive group that meets weekly to study the human figure. All skill levels welcome and mediums welcome. Nude model\, 18+ only. $8/session. </span>
LOCATION:Kaddatz Arts Gallery\, 111 West Lincoln Avenue\, Fergus Falls\, MN 56537
UID:e.314.24213
SEQUENCE:3
DTSTAMP:20260426T043646Z
URL:https://business.fergusfalls.com/events/details/figure-study-group-09-25-2015-24213
END:VEVENT

END:VCALENDAR
