BEGIN:VCALENDAR
VERSION:2.0
PRODID:-//ChamberMaster//Event Calendar 2.0//EN
METHOD:PUBLISH
X-PUBLISHED-TTL:P3D
REFRESH-INTERVAL:P3D
CALSCALE:GREGORIAN
BEGIN:VEVENT
DTSTART:20151003T000000Z
DTEND:20151003T013000Z
X-MICROSOFT-CDO-ALLDAYEVENT:FALSE
SUMMARY:Figure Study Group
DESCRIPTION:A supportive group that meets weekly to study the human figure. All skill levels welcome and mediums welcome. Nude model\, 18+ only. $8/session
X-ALT-DESC;FMTTYPE=text/html:<span class="event-description">A supportive group that meets weekly to study the human figure. All skill levels welcome and mediums welcome. Nude model\, 18+ only. $8/session</span>
LOCATION:Kaddatz Arts Gallery\, 111 West Lincoln Avenue\, Fergus Falls
UID:e.314.24219
SEQUENCE:3
DTSTAMP:20260426T042659Z
URL:https://business.fergusfalls.com/events/details/figure-study-group-10-02-2015-24219
END:VEVENT

END:VCALENDAR
