BEGIN:VCALENDAR
VERSION:2.0
PRODID:-//ChamberMaster//Event Calendar 2.0//EN
METHOD:PUBLISH
X-PUBLISHED-TTL:P3D
REFRESH-INTERVAL:P3D
CALSCALE:GREGORIAN
BEGIN:VEVENT
DTSTART:20161119T203000Z
DTEND:20161119T230000Z
X-MICROSOFT-CDO-ALLDAYEVENT:FALSE
SUMMARY:"Find Dory" Client Appreciation Event * Ryan Hanson Homes- Keller Williams
DESCRIPTION:Finding homes is what we do best! But could you please help us "Find Dory" at our Client Appreciation Event? Mark your calendars! Saturday\, November 19th at a Center for the Arts in Fergus Falls. Doors open at 2:30 for some fun\, snack gathering at seat finding and movie starts at 3. FREE event to THANK YOU for being our fabulous clients and also referring us to friends/family!!!
X-ALT-DESC;FMTTYPE=text/html:<span class="_4n-j fsl">Finding homes is what we do best! But could you please help us &quot\;Find Dory&quot\; at our Client Appreciation Event? Mark your calendars! Saturday\, November 19th at a Center for the Arts in Fergus Falls. Doors open at 2:30 for some fun\, snack gathering at seat finding and movie starts at 3. FREE event to THANK YOU for being our fabulous clients and also referring us to friends/family!!!</span>
LOCATION:Show Map A Center for the Arts 124 W Lincoln Ave\, Fergus Falls\, Minnesota 56537
UID:e.314.36239
SEQUENCE:3
DTSTAMP:20260425T040615Z
URL:https://business.fergusfalls.com/events/details/find-dory-client-appreciation-event-ryan-hanson-homes-keller-williams-36239
END:VEVENT

END:VCALENDAR
