BEGIN:VCALENDAR
VERSION:2.0
PRODID:-//ChamberMaster//Event Calendar 2.0//EN
METHOD:PUBLISH
X-PUBLISHED-TTL:P3D
REFRESH-INTERVAL:P3D
CALSCALE:GREGORIAN
BEGIN:VEVENT
DTSTART:20190927T133000Z
DTEND:20190927T141500Z
X-MICROSOFT-CDO-ALLDAYEVENT:FALSE
SUMMARY:"Find it in Fergus Falls" recorded @ PRTV channel 1 studio
DESCRIPTION:The Chamber's weekly TV show on PRTV channel 1 is recorded in the studio every Friday morning at 8:30am. "On location" interviews can also be arranged. Interviews are available for all chamber members as a benefit of membership. No professional TV experience is required to appear\, however guests should not wear green clothing.
X-ALT-DESC;FMTTYPE=text/html:The Chamber's weekly TV show on PRTV channel 1 is recorded in the studio every Friday morning at 8:30am. "On location" interviews can also be arranged. Interviews are available for all chamber members as a benefit of membership. No professional TV experience is required to appear\, however guests should not wear <strong><span style="background-color: rgb(0\, 255\, 0)\;">green </span></strong>clothing.
LOCATION:Otter Tail Telcom/Park Region Telephone TV Studio 230 W. Lincoln Ave. (corner of Lincoln & Union Ave.) - downtown Fergus Falls
UID:e.314.54005
SEQUENCE:3
DTSTAMP:20260422T222851Z
URL:https://business.fergusfalls.com/events/details/find-it-in-fergus-falls-recorded-prtv-channel-1-studio-09-27-2019-54005
END:VEVENT

END:VCALENDAR
