BEGIN:VCALENDAR
VERSION:2.0
PRODID:-//ChamberMaster//Event Calendar 2.0//EN
METHOD:PUBLISH
X-PUBLISHED-TTL:P3D
REFRESH-INTERVAL:P3D
CALSCALE:GREGORIAN
BEGIN:VEVENT
DTSTART:20210716T150000Z
DTEND:20210716T154500Z
X-MICROSOFT-CDO-ALLDAYEVENT:FALSE
SUMMARY:"Find it in Fergus Falls" recorded @ W. OT Co. Fair Education Center
DESCRIPTION:Tune in or be a guest on "Find it in Fergus Falls" -- the Chamber's weekly TV show on PRTV. A new show is recorded in the studio every Friday morning at 8:30am. "On location" interviews can also be arranged. Interviews are available for all chamber members as a benefit of membership. No professional TV experience is required to appear\, however guests should not wear green clothing.
X-ALT-DESC;FMTTYPE=text/html:Tune in or be a guest on &quot\;Find it in Fergus Falls&quot\; -- the Chamber&#39\;s weekly TV show on PRTV. A new show is recorded in the studio every Friday morning at 8:30am. &quot\;On location&quot\; interviews can also be arranged. Interviews are available for all chamber members as a benefit of membership. No professional TV experience is required to appear\, however guests should not wear <span style="color:#008000\;"><strong>green </strong></span>clothing.
LOCATION:West Otter Tail Co. Fairgrounds Education Center
UID:e.314.58761
SEQUENCE:3
DTSTAMP:20260421T112407Z
URL:https://business.fergusfalls.com/events/details/find-it-in-fergus-falls-recorded-w-ot-co-fair-education-center-58761
END:VEVENT

END:VCALENDAR
