BEGIN:VCALENDAR
VERSION:2.0
PRODID:-//ChamberMaster//Event Calendar 2.0//EN
METHOD:PUBLISH
X-PUBLISHED-TTL:P3D
REFRESH-INTERVAL:P3D
CALSCALE:GREGORIAN
BEGIN:VEVENT
DTSTART:20191008T220000Z
DTEND:20191008T230000Z
X-MICROSOFT-CDO-ALLDAYEVENT:FALSE
SUMMARY:Finding Foster Families Day
DESCRIPTION:KINDRED FAMILY FOCUS\n\nFinding Foster Families Day\n\nKindred Family Focus\, a provider of foster care and adoption\n\nservices\, will be hosing an informational meeting for anyone\n\ninterested in becoming a foster parent. The need for safe and caring\n\nhomes for Minnesota children is now greater than ever.\n\n\n\nContact Bridget Leonard for more information\n\nat 218-739-3074 or bleonard@nexus-kff.org.
X-ALT-DESC;FMTTYPE=text/html:KINDRED FAMILY FOCUS<br />\nFinding Foster Families Day<br />\nKindred Family Focus\, a provider of foster care and adoption<br />\nservices\, will be hosing an informational meeting for anyone<br />\ninterested in becoming a foster parent. The need for safe and caring<br />\nhomes for Minnesota children is now greater than ever.<br />\n<br />\nContact Bridget Leonard for more information<br />\nat 218-739-3074 or bleonard@nexus-kff.org.
LOCATION:Fergus Falls Public Library 205 E Hampden Avenue Fergus Falls\, MN 56537
UID:e.314.54790
SEQUENCE:3
DTSTAMP:20260422T203943Z
URL:https://business.fergusfalls.com/events/details/finding-foster-families-day-54790
END:VEVENT

END:VCALENDAR
