BEGIN:VCALENDAR
VERSION:2.0
PRODID:-//ChamberMaster//Event Calendar 2.0//EN
METHOD:PUBLISH
X-PUBLISHED-TTL:P3D
REFRESH-INTERVAL:P3D
CALSCALE:GREGORIAN
BEGIN:VEVENT
DTSTART:20180426T140000Z
DTEND:20180426T180000Z
X-MICROSOFT-CDO-ALLDAYEVENT:FALSE
SUMMARY:Finding Tomorrow's Talent Today Workforce Summit
DESCRIPTION:Finding Tomorrow's Talent Today workforce summit\n\n\n\nThere's a finite number of employees when you head to the same labor pool all the time. Becoming more inclusive and knowledgeable of the resources available to your organization can help you achieve hiring success.\n\nLearn about:\n\n  The data behind workforce issues and opportunities.\n\n  Employers who are solving their worker shortage.\n\n  Resources and organizations available to help you in your employee search.\n\n \n9-9:35 Registration/Welcome\n\n9:35-10 Keynote: "Employees by the Numbers: The Data Behind the Growing Need for Workers\, and Where to Find Them."\n\nBill Blazar\, Senior Vice President of Public Affairs and Business Development\, Minnesota Chamber of Commerce\n\n10-10:20 Occupations in Demand: Chet Bodin\, regional labor market analyst\, Minnesota Dept. of Employment and Economic Development\n\n10:20-10:30 Break\n\n10:30-11:15 Resource Speed Round: Meet the organizations that want to help you find workers.\n\n11:15-12 Lunch Discussion\n\n12-1 Panel Discussion: Learn how area employers are tackling their workforce shortage issue.
X-ALT-DESC;FMTTYPE=text/html:<span style="font-size:14px\;"><span style="font-family:verdana\;"><strong>Finding Tomorrow&#39\;s Talent Today workforce summit</strong><br />\n<br />\n<span class="_4n-j _3cht fsl" data-testid="event-permalink-details">There&rsquo\;s a finite number of employees when you head to the same labor pool all the time. Becoming more inclusive and knowledgeable of the resources available to your organization can help you achieve hiring success.<br />\nLearn about:<br />\n&bull\; The data behind workforce issues and opportunities.<br />\n&bull\; Employers who are solving their worker shortage.<br />\n&bull\; Resources and organizations available to help you in your employee search.</span></span></span><br />\n&nbsp\;\n<p style="box-sizing: border-box\; margin: 0px 0px 18px\; padding: 0px\; font-family: &quot\;Open Sans&quot\;\, sans-serif\; font-size: 23px\; line-height: 1.4\; color: rgb(34\, 34\, 34)\;"><span style="font-size:14px\;"><span style="font-family:verdana\;">9-9:35 Registration/Welcome</span></span><br />\n<span style="font-size:14px\;"><span style="font-family:verdana\;">9:35-10 Keynote: &ldquo\;Employees by the Numbers: The Data Behind the Growing Need for Workers\, and Where to Find Them.&rdquo\;<br style="box-sizing: border-box\;" />\nBill Blazar\, Senior Vice President of Public Affairs and Business Development\, Minnesota Chamber of Commerce</span></span><br />\n<span style="font-size:14px\;"><span style="font-family:verdana\;">10-10:20 Occupations in Demand: Chet Bodin\, regional labor market analyst\, Minnesota Dept. of Employment and Economic Development</span></span><br />\n<span style="font-size:14px\;"><span style="font-family:verdana\;">10:20-10:30 Break</span></span><br />\n<span style="font-size:14px\;"><span style="font-family:verdana\;">10:30-11:15 Resource Speed Round: Meet the organizations that want to help you find workers.</span></span><br />\n<span style="font-size:14px\;"><span style="font-family:verdana\;">11:15-12 Lunch Discussion</span></span><br />\n<span style="font-size:14px\;"><span style="font-family:verdana\;">12-1 Panel Discussion: Learn how area employers are tackling their workforce shortage issue.</span></span></p>\n<br />\n&nbsp\;
LOCATION:M State Detroit Lakes campus 900 MN Hwy. 34 Detroit Lakes\, MN
UID:e.314.47430
SEQUENCE:3
DTSTAMP:20260423T235119Z
URL:https://business.fergusfalls.com/events/details/finding-tomorrow-s-talent-today-workforce-summit-47430
END:VEVENT

END:VCALENDAR
