BEGIN:VCALENDAR
VERSION:2.0
PRODID:-//ChamberMaster//Event Calendar 2.0//EN
METHOD:PUBLISH
X-PUBLISHED-TTL:P3D
REFRESH-INTERVAL:P3D
CALSCALE:GREGORIAN
BEGIN:VEVENT
DTSTART:20180706T230000Z
DTEND:20180707T030000Z
X-MICROSOFT-CDO-ALLDAYEVENT:FALSE
SUMMARY:Fireworks at 1-94 Speedway
DESCRIPTION:July 6th Fireworks -after the races (Tentative on weather)\n\nSponsored by: Quality Circuits\n\nThoennes Transmissions\, American national Bank
X-ALT-DESC;FMTTYPE=text/html:July 6th Fireworks -after the races (Tentative on weather)<br />\nSponsored by: Quality Circuits<br />\nThoennes Transmissions\, American national Bank
LOCATION:I-94 Speedway Fergus Falls
UID:e.314.50038
SEQUENCE:3
DTSTAMP:20260423T225535Z
URL:https://business.fergusfalls.com/events/details/fireworks-at-1-94-speedway-50038
END:VEVENT

END:VCALENDAR
