BEGIN:VCALENDAR
VERSION:2.0
PRODID:-//ChamberMaster//Event Calendar 2.0//EN
METHOD:PUBLISH
X-PUBLISHED-TTL:P3D
REFRESH-INTERVAL:P3D
CALSCALE:GREGORIAN
BEGIN:VEVENT
DTSTART:20181202T003000Z
DTEND:20181202T010000Z
X-MICROSOFT-CDO-ALLDAYEVENT:FALSE
SUMMARY:FIREWORKS IN FERGUS FALLS
DESCRIPTION:Holiday Fireworks Display - immediately following the tree lighting in Wright Park
X-ALT-DESC;FMTTYPE=text/html:Holiday Fireworks Display - immediately following the tree lighting in Wright Park
LOCATION:Wright Park Union Ave Fergus Falls MN
UID:e.314.51709
SEQUENCE:3
DTSTAMP:20260423T122122Z
URL:https://business.fergusfalls.com/events/details/fireworks-in-fergus-falls-51709
END:VEVENT

END:VCALENDAR
