BEGIN:VCALENDAR
VERSION:2.0
PRODID:-//ChamberMaster//Event Calendar 2.0//EN
METHOD:PUBLISH
X-PUBLISHED-TTL:P3D
REFRESH-INTERVAL:P3D
CALSCALE:GREGORIAN
BEGIN:VEVENT
DTSTART:20160219T230000Z
DTEND:20160220T040000Z
X-MICROSOFT-CDO-ALLDAYEVENT:FALSE
SUMMARY:Fish Fry at Socials Bar & Grill
DESCRIPTION:Please join us for our fish fry\, plate includes fish\, baked potato and cole slaw for $8.99
X-ALT-DESC;FMTTYPE=text/html:Please join us for our fish fry\, plate includes fish\, baked potato and cole slaw for $8.99
LOCATION:Socials Bar and Grill 1815 West Lincoln Fergus Falls\, MN 56537
UID:e.314.31320
SEQUENCE:3
DTSTAMP:20260425T201218Z
URL:https://business.fergusfalls.com/events/details/fish-fry-at-socials-bar-grill-02-19-2016-31320
END:VEVENT

END:VCALENDAR
