BEGIN:VCALENDAR
VERSION:2.0
PRODID:-//ChamberMaster//Event Calendar 2.0//EN
METHOD:PUBLISH
X-PUBLISHED-TTL:P3D
REFRESH-INTERVAL:P3D
CALSCALE:GREGORIAN
BEGIN:VEVENT
DTSTART:20161119T160000Z
DTEND:20161119T200000Z
X-MICROSOFT-CDO-ALLDAYEVENT:FALSE
SUMMARY:Flock to the Museum
DESCRIPTION:Flock to the Museum\n\n \n\n    Did the elections get you stressed out? Need some fun before the holiday rush starts? The Otter Tail County Historical Society can help with its Flock to the Museum from Thursday\, November 17 thru Saturday\, November 19.\n\n     Bring the family to enjoy free museum admission and extended hours. Play our Museum Object Find then enjoy a cup of apple cider or 18th century hot chocolate. To make your holiday a bit easier we have a bake sale filled with all sorts of cookies\, ethnic goodies\, and jams and jellies.\n\n     There will also be special programs and food demonstrations. On Thursday\, November 17\, noon\, OTCHS staff members LeAnn Neuleib and Vicky Anderson will show how to make the perfect krumake. Later that evening at 7 p.m. Melissa Hermes will talk about 18th Century Chocolate Making.\n\n     On Friday the 18th\, at 10 a.m. enjoy a cup of coffee while Missy presents Making a Fabulous Fruitcake. At noon Kathy Evavold demonstrates how to make kambucha the amazing probiotic tea. We finish Friday at 4 p.m. with local bee keeper Mark Sundberg talking about the Wonderful World of Honey.\n\n     On Saturday at 11 a.m. the legendary Sue Schroeder shows how to make the perfect lefse. The day wraps up at 1 p.m. with Missy Hermes encore presentation of 18th Century Chocolate Making.
X-ALT-DESC;FMTTYPE=text/html:<strong><u><span style="font-size: medium\;"><span style="font-family: times new roman\;">Flock to the Museum</span></span></u></strong><br />\n&nbsp\;<br />\n<span style="font-size: medium\;"><span style="font-family: times new roman\;">&nbsp\; &nbsp\; Did the elections get you stressed out? Need some fun before the holiday rush starts? The Otter Tail County Historical Society can help with its&nbsp\;<strong>Flock to the Museum</strong>&nbsp\;from Thursday\, November 17 thru Saturday\, November 19.</span></span><br />\n<span style="font-size: medium\;"><span style="font-family: times new roman\;">&nbsp\; &nbsp\; &nbsp\;Bring the family to enjoy free museum admission and extended hours. Play our Museum Object Find then enjoy a cup of apple cider or 18th century hot chocolate. To make your holiday a bit easier we have a bake sale filled with all sorts of cookies\, ethnic goodies\, and jams and jellies.</span></span><br />\n<span style="font-size: medium\;"><span style="font-family: times new roman\;">&nbsp\; &nbsp\; &nbsp\;There will also be special programs and food demonstrations. On Thursday\, November 17\, noon\, OTCHS staff members LeAnn Neuleib and Vicky Anderson will show how to make the perfect krumake. Later that evening at 7 p.m. Melissa Hermes will talk about 18th Century Chocolate Making.</span></span><br />\n<span style="font-size: medium\;"><span style="font-family: times new roman\;">&nbsp\; &nbsp\; &nbsp\;On Friday the 18th\, at 10 a.m. enjoy a cup of coffee while Missy presents Making a Fabulous Fruitcake. At noon Kathy Evavold demonstrates how to make kambucha the amazing probiotic tea. We finish Friday at 4 p.m. with local bee keeper Mark Sundberg talking about the Wonderful World of Honey.</span></span><br />\n<span style="font-size: medium\;"><span style="font-family: times new roman\;">&nbsp\; &nbsp\; &nbsp\;On Saturday at 11 a.m. the legendary Sue Schroeder shows how to make the perfect lefse. The day wraps up at 1 p.m. with Missy Hermes encore presentation of 18th Century Chocolate Making.</span></span><br />\n&nbsp\;
LOCATION:Otter Tail County Historical Society 1110 Lincoln Ave West Fergus Falls\, MN 56537
UID:e.314.36622
SEQUENCE:3
DTSTAMP:20260425T035628Z
URL:https://business.fergusfalls.com/events/details/flock-to-the-museum-36622
END:VEVENT

END:VCALENDAR
