BEGIN:VCALENDAR
VERSION:2.0
PRODID:-//ChamberMaster//Event Calendar 2.0//EN
METHOD:PUBLISH
X-PUBLISHED-TTL:P3D
REFRESH-INTERVAL:P3D
CALSCALE:GREGORIAN
BEGIN:VEVENT
DTSTART:20171109T150000Z
DTEND:20171111T160000Z
X-MICROSOFT-CDO-ALLDAYEVENT:FALSE
SUMMARY:Flock to the Museum
DESCRIPTION:Flock to the Museum\n\nJoin us in our celebration of all things fall and our commemoration of Otter Tail County's World War I veterans.\n\n\n\nThis may be your last chance to see our major temporary exhibit\, OTTER TAIL COUNTY IN WORLD WAR I at no charge.\n\n\n\nThe exhibit ends on December 8\, 2017.
X-ALT-DESC;FMTTYPE=text/html:Flock to the Museum<br />\n<span class="_4n-j _fbReactionComponent__eventDetailsContentTags fsl" data-testid="event-permalink-details">Join us in our celebration of all things fall and our commemoration of Otter Tail County&#39\;s World War I veterans.<br />\n<br />\nThis may be your last chance to see our major temporary exhibit\, OTTER TAIL COUNTY IN WORLD WAR I at no charge.<br />\n<br />\nThe exhibit ends on December 8\, 2017.</span>
LOCATION:Otter Tail County Hostorical Society 1110 W Lincoln Ave
UID:e.314.42890
SEQUENCE:3
DTSTAMP:20260424T073756Z
URL:https://business.fergusfalls.com/events/details/flock-to-the-museum-42890
END:VEVENT

END:VCALENDAR
