BEGIN:VCALENDAR
VERSION:2.0
PRODID:-//ChamberMaster//Event Calendar 2.0//EN
METHOD:PUBLISH
X-PUBLISHED-TTL:P3D
REFRESH-INTERVAL:P3D
CALSCALE:GREGORIAN
BEGIN:VEVENT
DTSTART;VALUE=DATE:20151119
DTEND;VALUE=DATE:20151122
TRANSP:TRANSPARENT
X-MICROSOFT-CDO-ALLDAYEVENT:TRUE
SUMMARY:FLOCK TO THE MUSEUM NOVEMBER 19-21
DESCRIPTION:FLOCK TO THE MUSEUM NOVEMBER 19-21\n\nHoliday preparations have you stressed out? Need time away from all the Thanksgiving promotions? The Otter Tail County Historical Society Museum can help with its Flock to the Museum event from Thursday\, November 19 through Saturday\, November 21.\n\nBring the family to enjoy free admission and extended exhibit gallery hours. There will also be free apple cider and a bake sale filled with all sorts of holiday cookies along with jam and jellies.\n...\n\n\nVernal Lind\, local author of historical novels\, "Beyond Those Hills" series and "When June Comes"\, will be signing books on Thursday\, November 19\, from 2:00 p.m.-4:00 p.m. with a program at 3:00 p.m.\n\nOn Friday\, November 20\, 10 a.m.\, Liz Sweder will discuss her new book\, "The Red Cottage: A Memoir". Liz recalls her family's Swedish-style cottage on Jewett Lake. Her book celebrates the enduring values of family and place.\n\nRight after Liz's program at 11:30 a.m.\, museum staff will demonstrate the fine art of making sauerkraut. This will be the first and only public appearance of Museum Director Chris Schuelke in an apron. Samples are included.\n\nFinally\, on Saturday\, November 21\, at 1:00 p.m. the German Lefse girls featuring Sue Schroeder will be making lefse. No boxed potatoes for these ladies as they whip up some of the best lefse around. Free samples will be given.\n\nFlock to the Museum is a great opportunity to visit the Otter Tail County Historical Museum while enjoying a variety of activities. For more information call 218-736-6038 or visit our website www.otchs.org.
X-ALT-DESC;FMTTYPE=text/html:<div class="text_exposed_root text_exposed" id="id_564b49b9a90227a54077737">\n<p>FLOCK TO THE MUSEUM NOVEMBER 19-21</p>\n\n<p>Holiday preparations have you stressed out? Need time away from all the Thanksgiving promotions? The Otter Tail County Historical Society Museum can help with its Flock to the Museum event from Thursday\, November 19 through Saturday\, November 21.</p>\n\n<p>Bring the family to enjoy free admission and extended exhibit gallery hours. There will also be free apple cider and a bake sale filled with all sorts of holiday cookies along with jam and jellies.</p>\n<span class="text_exposed_hide">...</span>\n\n<div class="text_exposed_show">\n<p>Vernal Lind\, local author of historical novels\, &quot\;Beyond Those Hills&quot\; series and &quot\;When June Comes&quot\;\, will be signing books on Thursday\, November 19\, from 2:00 p.m.-4:00 p.m. with a program at 3:00 p.m.</p>\n\n<p>On Friday\, November 20\, 10 a.m.\, Liz Sweder will discuss her new book\, &quot\;The Red Cottage: A Memoir&quot\;. Liz recalls her family&rsquo\;s Swedish-style cottage on Jewett Lake. Her book celebrates the enduring values of family and place.</p>\n\n<p>Right after Liz&rsquo\;s program at 11:30 a.m.\, museum staff will demonstrate the fine art of making sauerkraut. This will be the first and only public appearance of Museum Director Chris Schuelke in an apron. Samples are included.</p>\n\n<p>Finally\, on Saturday\, November 21\, at 1:00 p.m. the German Lefse girls featuring Sue Schroeder will be making lefse. No boxed potatoes for these ladies as they whip up some of the best lefse around. Free samples will be given.</p>\n\n<p>Flock to the Museum is a great opportunity to visit the Otter Tail County Historical Museum while enjoying a variety of activities. For more information call 218-736-6038 or visit our website <a href="http://l.facebook.com/l.php?u=http%3A%2F%2Fwww.otchs.org%2F&amp\;h=oAQE3gOkQAQFBZR-u5O3nGwJN3VxaAcWevxLBJkRQfPEb9w&amp\;enc=AZM_ZwSrvx2RZ0sjnpbMDrPVrWX8Ia0JeyiE93QwUraakwVFTHlEvIJCYHWbNl5NMpLHxsEXcwoZfWcRpJdcYk91pE4vTgRoSh_PmzQqaDmfS9WTpgJlZ0NFgraMeduxaysHcVlIzPpbLJMRTovUcT3X74ABVBcTdOxxA3IGKm4IuKZTrXrKDJcv6-HIPEcL-GCN39bDJqT1a7ptgq_xPajv&amp\;s=1" rel="nofollow" target="_blank"><font color="#0066cc">www.otchs.org.</font></a></p>\n</div>\n</div>\n
LOCATION:1110 W Lincoln Ave\, Fergus Falls
UID:e.314.26904
SEQUENCE:3
DTSTAMP:20260426T030601Z
URL:https://business.fergusfalls.com/events/details/flock-to-the-museum-november-19-21-11-19-2015-26904
END:VEVENT

END:VCALENDAR
