BEGIN:VCALENDAR
VERSION:2.0
PRODID:-//ChamberMaster//Event Calendar 2.0//EN
METHOD:PUBLISH
X-PUBLISHED-TTL:P3D
REFRESH-INTERVAL:P3D
CALSCALE:GREGORIAN
BEGIN:VEVENT
DTSTART:20151021T133000Z
DTEND:20151021T173000Z
X-MICROSOFT-CDO-ALLDAYEVENT:FALSE
SUMMARY:FLU SHOT CLINICS - Barnesville
DESCRIPTION:FLU SHOT CLINICS\n\nBarnesville Clinic\n\n209 2nd St. SE\n\nOct. 21\, 8:30 a.m. - 12:30 p.m.
X-ALT-DESC;FMTTYPE=text/html:<p><b><font face="GillSans-SemiBold" size="7"><font face="GillSans-SemiBold" size="7">FLU SHOT CLINICS</font></font></b><br />\n<b><font face="GillSans-Bold" size="7"><font face="GillSans-Bold" size="7">Barnesville Clinic</font></font></b></p>\n\n<p align="LEFT"><font face="GillSans" size="6"><font face="GillSans" size="6">209 2nd St. SE</font></font></p>\n\n<p><span style="color: rgb(0\, 0\, 255)\;"><font face="GillSans" size="6"><font face="GillSans" size="6">Oct. 21\, 8:30 a.m. - 12:30 p.m.</font></font></span></p>\n
LOCATION:Barnesville Clinic 209 2nd St. SE
UID:e.314.24315
SEQUENCE:3
DTSTAMP:20260426T030012Z
URL:https://business.fergusfalls.com/events/details/flu-shot-clinics-barnesville-10-21-2015-24315
END:VEVENT

END:VCALENDAR
