BEGIN:VCALENDAR
VERSION:2.0
PRODID:-//ChamberMaster//Event Calendar 2.0//EN
METHOD:PUBLISH
X-PUBLISHED-TTL:P3D
REFRESH-INTERVAL:P3D
CALSCALE:GREGORIAN
BEGIN:VEVENT
DTSTART:20151014T180000Z
DTEND:20151014T213000Z
X-MICROSOFT-CDO-ALLDAYEVENT:FALSE
SUMMARY:FLU SHOT CLINICS - Battle Lake
DESCRIPTION:FLU SHOT CLINICS\n\n \n\nBattle Lake Clinic\n\n410 Lake Ave. S.\n\nOct. 14\n\n1-4:30 p.m.
X-ALT-DESC;FMTTYPE=text/html:<p><b><font face="GillSans-SemiBold" size="7"><font face="GillSans-SemiBold" size="7">FLU SHOT CLINICS</font></font></b><br />\n&nbsp\;</p>\n\n<p align="LEFT"><b><font face="GillSans-Bold" size="7"><font face="GillSans-Bold" size="7">Battle Lake Clinic</font></font></b></p>\n\n<p align="LEFT"><font face="GillSans" size="6"><font face="GillSans" size="6">410 Lake Ave. S.</font></font></p>\n\n<p align="LEFT"><font face="GillSans" size="6"><font face="GillSans" size="6">Oct. 14</font></font></p>\n\n<p><font face="GillSans" size="6"><font face="GillSans" size="6">1-4:30 p.m.</font></font></p>\n
LOCATION:Battle Lake Clinic 410 Lake Ave. S.
UID:e.314.24313
SEQUENCE:3
DTSTAMP:20260426T030300Z
URL:https://business.fergusfalls.com/events/details/flu-shot-clinics-battle-lake-10-14-2015-24313
END:VEVENT

END:VCALENDAR
