BEGIN:VCALENDAR
VERSION:2.0
PRODID:-//ChamberMaster//Event Calendar 2.0//EN
METHOD:PUBLISH
X-PUBLISHED-TTL:P3D
REFRESH-INTERVAL:P3D
CALSCALE:GREGORIAN
BEGIN:VEVENT
DTSTART:20151008T123000Z
DTEND:20151008T230000Z
X-MICROSOFT-CDO-ALLDAYEVENT:FALSE
SUMMARY:FLU SHOT CLINICS - WINTERIZE YOUR IMMUNE SYSTEM
DESCRIPTION:FLU SHOT CLINICS\n\nFergus Falls\n\nCancer Center\n\n908 Cascade St. S.\n\nSept. 24\, Oct. 1 & 8\n\n7:30 a.m. - 6 p.m.
X-ALT-DESC;FMTTYPE=text/html:<p align="LEFT"><br />\n<br />\n<b><font face="GillSans-SemiBold" size="7"><font face="GillSans-SemiBold" size="7">FLU SHOT CLINICS</font></font><br />\n<font face="GillSans-Bold" size="7"><font face="GillSans-Bold" size="7">Fergus Falls</font></font></b></p>\n\n<p align="LEFT"><font face="GillSans" size="6"><font face="GillSans" size="6">Cancer Center</font></font></p>\n\n<p align="LEFT"><font face="GillSans" size="6"><font face="GillSans" size="6">908 Cascade St. S.</font></font></p>\n\n<p align="LEFT"><font face="GillSans" size="6"><font face="GillSans" size="6">Sept. 24\, Oct. 1 &amp\; 8</font></font></p>\n\n<p><font face="GillSans" size="6"><font face="GillSans" size="6">7:30 a.m. - 6 p.m.</font></font></p>\n
LOCATION:Fergus Falls Cancer Center 908 Cascade St. S.
UID:e.314.24311
SEQUENCE:3
DTSTAMP:20260426T030020Z
URL:https://business.fergusfalls.com/events/details/flu-shot-clinics-winterize-your-immune-system-10-08-2015-24311
END:VEVENT

END:VCALENDAR
