BEGIN:VCALENDAR
VERSION:2.0
PRODID:-//ChamberMaster//Event Calendar 2.0//EN
METHOD:PUBLISH
X-PUBLISHED-TTL:P3D
REFRESH-INTERVAL:P3D
CALSCALE:GREGORIAN
BEGIN:VEVENT
DTSTART:20150930T140000Z
DTEND:20150930T160000Z
X-MICROSOFT-CDO-ALLDAYEVENT:FALSE
SUMMARY:FLU SHOT CLINICS - WINTERIZE YOUR IMMUNE SYSTEM - ASHBY
DESCRIPTION:FLU SHOT CLINICS\n\nAshby Clinic\n\n110 Co. Rd. 82 E.\n\nSept. 30\n\n9-11 a.m.
X-ALT-DESC;FMTTYPE=text/html:<p align="LEFT"><b><font face="GillSans-SemiBold" size="7"><font face="GillSans-SemiBold" size="7">FLU SHOT CLINICS</font></font><br />\n<font face="GillSans-Bold" size="7"><font face="GillSans-Bold" size="7">Ashby Clinic</font></font></b></p>\n\n<p align="LEFT"><font face="GillSans" size="6"><font face="GillSans" size="6">110 Co. Rd. 82 E.</font></font></p>\n\n<p align="LEFT"><font face="GillSans" size="6"><font face="GillSans" size="6">Sept. 30</font></font></p>\n\n<p><font face="GillSans" size="6"><font face="GillSans" size="6">9-11 a.m.</font></font></p>\n
LOCATION:Ashby Clinic 110 Co. Rd. 82 E.
UID:e.314.24312
SEQUENCE:3
DTSTAMP:20260426T044124Z
URL:https://business.fergusfalls.com/events/details/flu-shot-clinics-winterize-your-immune-system-ashby-09-30-2015-24312
END:VEVENT

END:VCALENDAR
