BEGIN:VCALENDAR
VERSION:2.0
PRODID:-//ChamberMaster//Event Calendar 2.0//EN
METHOD:PUBLISH
X-PUBLISHED-TTL:P3D
REFRESH-INTERVAL:P3D
CALSCALE:GREGORIAN
BEGIN:VEVENT
DTSTART:20160612T130000Z
DTEND:20160612T180000Z
X-MICROSOFT-CDO-ALLDAYEVENT:FALSE
SUMMARY:Fly In / Drive in Breakfast
DESCRIPTION:Fly-in / Drive-in Breakfast Sunday\, June 12\, 2016 from 8 AM - 1 PM at the Fergus Falls Airport - serving Dad's Belgian Waffles\, sausages\, and beverage (all you care to eat!)  \n\n\n\n$8 for adults 13 & up\, Ages 6 - 12 $6\, Age 5 and under - free.\n\nSponsored by Fergus Falls EAA Chapter 1174\, also providing FREE young eagle flights for ages 8 - 17.  \n\n\n\nFor more information\, contact Andrew Yaggie (701) 212-5263 - andrewyaggie@gmail.com
X-ALT-DESC;FMTTYPE=text/html:<span style="font-family: &quot\;Times New Roman&quot\;\,serif\; font-size: 12pt\; mso-fareast-font-family: &quot\;Times New Roman&quot\;\; mso-ansi-language: EN-US\; mso-fareast-language: EN-US\; mso-bidi-language: AR-SA\;"><font color="#000000">Fly-in / Drive-in Breakfast Sunday\, June 12\, 2016 from 8 AM - 1 PM at the Fergus Falls Airport - serving Dad&#39\;s Belgian Waffles\, sausages\, and beverage (all you care to eat!) &nbsp\;<br />\n<br />\n$8 for adults 13 &amp\; up\, Ages 6 - 12 $6\, Age 5 and under - free.<br />\nSponsored by Fergus Falls EAA Chapter 1174\, also providing FREE young eagle flights for ages 8 - 17. &nbsp\;<br />\n<br />\nFor more information\, contact Andrew Yaggie (701) 212-5263 -&nbsp\;</font><a href="mailto:andrewyaggie@gmail.com"><font color="#0000ff">andrewyaggie@gmail.com</font></a></span>
LOCATION:Fergus Falls Municipal Airport 4005 State Highway 210 West Fergus Falls\, MN
UID:e.314.31682
SEQUENCE:3
DTSTAMP:20260425T130458Z
URL:https://business.fergusfalls.com/events/details/fly-in-drive-in-breakfast-06-12-2016-31682
END:VEVENT

END:VCALENDAR
