BEGIN:VCALENDAR
VERSION:2.0
PRODID:-//ChamberMaster//Event Calendar 2.0//EN
METHOD:PUBLISH
X-PUBLISHED-TTL:P3D
REFRESH-INTERVAL:P3D
CALSCALE:GREGORIAN
BEGIN:VEVENT
DTSTART:20151106T140000Z
DTEND:20151106T180000Z
X-MICROSOFT-CDO-ALLDAYEVENT:FALSE
SUMMARY:Food Drop for People in Need
DESCRIPTION:There will be a mobile food drop for residents of Otter Tail County in Fergus Falls on Friday\, November 6th\, at the Fergus Falls National Guard Armory. Registration will start no earlier than 8:00am and food will be distributed at 9:30am. You must be a resident of Otter Tail County and in need of food to participate. Please bring boxes or baskets to carry the food.\n\n Please bring an insurance card for this service. There will be a limited amount of shots provided at no charge for those who do not have insurance. First come\, first serve.\n\nParticipants will also be able to connect with the following agencies: Rur...al MN CEP\, Apple Tree Dental\, A Place to Belong\, Someplace Safe and Spartan Staffing.\n\n\n\nDate and Time: Friday\, November 6th\, 2015 from 8am   Noon\n\nLocation: Fergus Falls National Guard Armory\, 421 E. Cecil Ave.\, Fergus Falls\, MN\n\n\n\nMany volunteers are needed to help with the event.\n\nVolunteers needed for:\n\nShift one: 8:00am   9:30\, Unload food and set up on tables.\n\nShift two: 9:30am - 11am\, Food Distribution\n\nShift three: 11:00am\, Clean up\n\nJob Assignments:\n\n1. Unpack and set up food on tables.\n\n2. Manage a food table.\n\n3. Help participants load their carts.\n\n4. Deliver food to participants' vehicles.\n\n5. Cleanup\n\nPlease contact\, Christi Stoll at 218-770-9406 or volunteeruwotc@yahoo.com to volunteer.\n\n\n\nThis food drop is sponsored by the Federated Church\, Friends of Friends Fighting Hunger in Otter Tail County\, United Way of Otter Tail County\, and North Country Food Bank of Crookston.\n\n\n\nFor a listing of programs and initiatives funded by United Way of Otter Tail County or to make a contribution to United Way to IMPROVE LIVES\, call the United Way office at 218.736.5147 or go to www.uwotc.com.
X-ALT-DESC;FMTTYPE=text/html:<div class="text_exposed_root text_exposed" id="id_5602c8f0261469d36508148"><span class="fsl">There will be a mobile food drop for residents of Otter Tail County in Fergus Falls on Friday\, November 6th\, at the Fergus Falls National Guard Armory. Registration will start no earlier than 8:00am and food will be distributed at 9:30am. You must be a resident of Otter Tail County and in need of food to participate. Please bring boxes or baskets to carry the food.<br />\n&nbsp\;Please bring an insurance card for this service. There will be a limited amount of shots provided at no charge for those who do not have insurance. First come\, first serve.<br />\nParticipants will also be able to connect with the following agencies: Rur<span class="text_exposed_hide">...</span><span class="text_exposed_show">al MN CEP\, Apple Tree Dental\, A Place to Belong\, Someplace Safe and Spartan Staffing.<br />\n<br />\n<strong>Date and Time: Friday\, November 6th\, 2015 from 8am &ndash\; Noon<br />\nLocation: Fergus Falls National Guard Armory\, 421 E. Cecil Ave.\, Fergus Falls\, MN</strong><br />\n<br />\nMany volunteers are needed to help with the event.<br />\n<strong>Volunteers needed for:</strong><br />\nShift one: 8:00am &ndash\; 9:30\, Unload food and set up on tables.<br />\nShift two: 9:30am - 11am\, Food Distribution<br />\nShift three: 11:00am\, Clean up<br />\n<strong>Job Assignments:</strong><br />\n1. Unpack and set up food on tables.<br />\n2. Manage a food table.<br />\n3. Help participants load their carts.<br />\n4. Deliver food to participants&#39\; vehicles.<br />\n5. Cleanup<br />\nPlease contact\, Christi Stoll at 218-770-9406 or volunteeruwotc@yahoo.com to volunteer.<br />\n<br />\nThis food drop is sponsored by the Federated Church\, Friends of Friends Fighting Hunger in Otter Tail County\, United Way of Otter Tail County\, and North Country Food Bank of Crookston.<br />\n<br />\nFor a listing of programs and initiatives funded by United Way of Otter Tail County or to make a contribution to United Way to IMPROVE LIVES\, call the United Way office at 218.736.5147 or go to <a href="http://www.uwotc.com/" rel="nofollow nofollow" target="_blank"><font color="#0066cc">www.uwotc.com.</font></a></span></span></div>\n
LOCATION:National Armory Fergus Falls 421 E. Cecil Ave.
UID:e.314.24228
SEQUENCE:3
DTSTAMP:20260426T011430Z
URL:https://business.fergusfalls.com/events/details/food-drop-for-people-in-need-11-06-2015-24228
END:VEVENT

END:VCALENDAR
