BEGIN:VCALENDAR
VERSION:2.0
PRODID:-//ChamberMaster//Event Calendar 2.0//EN
METHOD:PUBLISH
X-PUBLISHED-TTL:P3D
REFRESH-INTERVAL:P3D
CALSCALE:GREGORIAN
BEGIN:VEVENT
DTSTART:20190427T150000Z
DTEND:20190427T200000Z
X-MICROSOFT-CDO-ALLDAYEVENT:FALSE
SUMMARY:For the Love of Stuff
DESCRIPTION:Over 20 local vendors and crafters at the VFW in Fergus Falls with table proceeds benefiting local Girl Scout Troop 30657.
X-ALT-DESC;FMTTYPE=text/html:Over 20 local vendors and crafters at the VFW in Fergus Falls with table proceeds benefiting local Girl Scout Troop 30657.
LOCATION:Fergus Falls VFW
UID:e.314.53862
SEQUENCE:3
DTSTAMP:20260423T063045Z
URL:https://business.fergusfalls.com/events/details/for-the-love-of-stuff-53862
END:VEVENT

END:VCALENDAR
