BEGIN:VCALENDAR
VERSION:2.0
PRODID:-//ChamberMaster//Event Calendar 2.0//EN
METHOD:PUBLISH
X-PUBLISHED-TTL:P3D
REFRESH-INTERVAL:P3D
CALSCALE:GREGORIAN
BEGIN:VEVENT
DTSTART:20180920T210000Z
DTEND:20180920T220000Z
X-MICROSOFT-CDO-ALLDAYEVENT:FALSE
SUMMARY:Forward at 4
DESCRIPTION:Forward at 4\n\n\nForward at 4 is Forward Fergus Falls' recurring gathering to inform\, unite\, and excite community members about business\, education\, wellness\, recreation\, and arts and culture topics! It is free and open to the public\, so join us for refreshments and a positivity-filled gathering every third Thursday of the month at A Center for the Arts from 4 p.m.!\n\nHere are the upcoming dates!\n\nThursday\, June 21   4 p.m. at A Center for the Arts\n\nThursday\, July 19   4 p.m. at A Center for the Arts\n\nThursday\, August 16   4 p.m. at A Center for the Arts\n\nThursday\, September 20   4 p.m. at A Center for the Arts\n\nUpdates will be posted on their facebook page.
X-ALT-DESC;FMTTYPE=text/html:<h1 class="entry-title">Forward at 4</h1>\n\n<div class="entry-content">\n<p><a href="https://www.facebook.com/events/1953132961665121/" rel="noopener" target="_blank"><font color="#477474">Forward at 4</font></a> is Forward Fergus Falls&rsquo\; recurring gathering to inform\, unite\, and excite community members about business\, education\, wellness\, recreation\, and arts and culture topics! It is free and open to the public\, so join us for refreshments and a positivity-filled gathering every third Thursday of the month at A Center for the Arts from 4 p.m.!</p>\n\n<p>Here are the upcoming dates!</p>\n\n<p style="padding-left: 30px\;">Thursday\, June 21 &ndash\; 4 p.m. at&nbsp\;A Center for the Arts</p>\n\n<p style="padding-left: 30px\;">Thursday\, July 19 &ndash\; 4 p.m. at&nbsp\;A Center for the Arts</p>\n\n<p style="padding-left: 30px\;">Thursday\, August 16 &ndash\; 4 p.m. at&nbsp\;A Center for the Arts</p>\n\n<p style="padding-left: 30px\;">Thursday\, September 20 &ndash\; 4 p.m. at&nbsp\;A Center for the Arts</p>\n\n<p>Updates will be posted on their facebook page.</p>\n</div>\n
LOCATION:
UID:e.314.49952
SEQUENCE:3
DTSTAMP:20260423T164158Z
URL:https://business.fergusfalls.com/events/details/forward-at-4-09-20-2018-49952
END:VEVENT

END:VCALENDAR
