BEGIN:VCALENDAR
VERSION:2.0
PRODID:-//ChamberMaster//Event Calendar 2.0//EN
METHOD:PUBLISH
X-PUBLISHED-TTL:P3D
REFRESH-INTERVAL:P3D
CALSCALE:GREGORIAN
BEGIN:VEVENT
DTSTART:20181220T220000Z
DTEND:20181220T223000Z
X-MICROSOFT-CDO-ALLDAYEVENT:FALSE
SUMMARY:Forward at 4 (Forward Fergus Falls)
DESCRIPTION:Forward Fergus Falls invites you to the next Forward at Four\, a community social gathering in Fergus Falls. This month's event will be held Thursday\, December 20\, from 4:00   5:00 PM at the Fergus Falls City Hall (112 Washington Ave W\, Fergus Falls\, MN 56537.)\n\n \n\nForward at Four is a monthly gathering of Fergus Falls community members who wish to help inform\, unite\, and excite the community. Gatherings are free and open to the public.\n\n \n\nThis month's Forward at Four will be held in the Fergus Falls City Hall and provide a preview of the upcoming Welcome Home for the Holidays event. On Saturday morning\, December 22\, families gathered for the holidays are invited to a special "Welcome Home" event in three locations. This Forward at Four event features four special guests who will share WHY they moved back to Fergus Falls\, what changed\, what they love\, what they don't love\, and what they would like to see in the future. Moderated by Live Wide Open coordinator Rick Schara. \n\n \n\nAdditional details are made available on the Forward Fergus Falls Facebook page   www.facebook.com/ForwardFergusFalls/ or at www.forwardfergusfalls.org.\n\n \n\nForward Fergus Falls is a group of citizens working to make Fergus Falls an even better place than it already is today. The Forward Fergus Falls group relies on active and informed citizens to help drive Forward Fergus Falls' mission in a positive and united way.
X-ALT-DESC;FMTTYPE=text/html:<span style="font-size: 11pt\;"><span style="font-family: calibri\,sans-serif\;">Forward Fergus Falls invites you to the next Forward at Four\, a community social gathering in Fergus Falls. This month&rsquo\;s event will be held Thursday\, December 20\, from 4:00 &ndash\; 5:00 PM at the Fergus Falls City Hall (112 Washington Ave W\, Fergus Falls\, MN 56537.)</span></span><br />\n&nbsp\;<br />\n<span style="font-size: 11pt\;"><span style="font-family: calibri\,sans-serif\;">Forward at Four is a monthly gathering of Fergus Falls community members who wish to help inform\, unite\, and excite the community. Gatherings are free and open to the public.</span></span><br />\n&nbsp\;<br />\n<span style="font-size: 11pt\;"><span style="font-family: calibri\,sans-serif\;">This month&rsquo\;s Forward at Four will be held in the Fergus Falls City Hall and provide a preview of the upcoming Welcome Home for the Holidays event. On Saturday morning\, December 22\, families gathered for the holidays are invited to a special &ldquo\;Welcome Home&rdquo\; event in three locations. This Forward at Four event features four special guests who will share WHY they moved back to Fergus Falls\, what changed\, what they love\, what they don&rsquo\;t love\, and what they would like to see in the future. Moderated by Live Wide Open coordinator Rick Schara. </span></span><br />\n&nbsp\;<br />\n<span style="font-size: 12px\;"><span style="font-family: calibri\,sans-serif\;">Additional details are made available on the Forward Fergus Falls Facebook page &ndash\; <a href="http://www.facebook.com/ForwardFergusFalls/"><span style="color: rgb(0\, 0\, 255)\;">www.facebook.com/ForwardFergusFalls/</span></a></span> or at <a href="http://www.forwardfergusfalls.org/"><span style="color: rgb(0\, 0\, 255)\;">www.forwardfergusfalls.org</span></a>.</span><br />\n&nbsp\;<br />\n<span style="font-size: 11pt\;"><span style="font-family: calibri\,sans-serif\;">Forward Fergus Falls is a group of citizens working to make Fergus Falls an even better place than it already is today. The Forward Fergus Falls group relies on active and informed citizens to help drive Forward Fergus Falls&rsquo\; mission in a positive and united way.</span></span><br />\n&nbsp\;<br />\n&nbsp\;
LOCATION:City Hall 112 Washington Ave Fergus Falls MN 56537
UID:e.314.52106
SEQUENCE:3
DTSTAMP:20260423T121929Z
URL:https://business.fergusfalls.com/events/details/forward-at-4-forward-fergus-falls-52106
END:VEVENT

END:VCALENDAR
