BEGIN:VCALENDAR
VERSION:2.0
PRODID:-//ChamberMaster//Event Calendar 2.0//EN
METHOD:PUBLISH
X-PUBLISHED-TTL:P3D
REFRESH-INTERVAL:P3D
CALSCALE:GREGORIAN
BEGIN:VEVENT
DTSTART:20180614T120000Z
DTEND:20180614T140000Z
X-MICROSOFT-CDO-ALLDAYEVENT:FALSE
SUMMARY:Forward Fergus Falls Community Celebration
DESCRIPTION:Please join Forward Fergus Falls in celebrating our community! This year's theme is Community Building. More details to follow shortly.
X-ALT-DESC;FMTTYPE=text/html:<div class="_63ew"><span>Please join Forward Fergus Falls in celebrating our community! This year&#39\;s theme is Community Building. More details to follow shortly.</span></div>\n
LOCATION:M State Fergus Falls 1414 College Way\, Fergus Falls
UID:e.314.48926
SEQUENCE:3
DTSTAMP:20260423T211704Z
URL:https://business.fergusfalls.com/events/details/forward-fergus-falls-community-celebration-48926
END:VEVENT

END:VCALENDAR
