BEGIN:VCALENDAR
VERSION:2.0
PRODID:-//ChamberMaster//Event Calendar 2.0//EN
METHOD:PUBLISH
X-PUBLISHED-TTL:P3D
REFRESH-INTERVAL:P3D
CALSCALE:GREGORIAN
BEGIN:VEVENT
DTSTART:20160506T170000Z
DTEND:20160506T180000Z
X-MICROSOFT-CDO-ALLDAYEVENT:FALSE
SUMMARY:Forward Fergus Falls Minnesota Invites You
DESCRIPTION:Forward Fergus Falls Minnesota Invites You \n\n\n\nAll- Stewards is a group of citizens working to make Fergus Falls an even better place to live for current and future generations.  Our shared destiny - "Fergus Falls\, a beautiful river city\, leads West Central Minnesota in health services\, business growth\, learning and the arts."\n\n\n\n\n\nMeeting Dates:\n\n\n\nJan 8\,2016\n\nFeb 5\,2016\n\nMar 4\,2016\n\nApril 1\, 2016\n\nMay 6\, 2016\n\n\n\n\n\nAll Meetings will be held at Noon in the Keller Williams Realty Office (basement conference room)\n\n\n\n225 W Cavour Ave\, Fergus Falls\n\n(park in lots east of building)\n\n\n\nFor more information contact the Fergus Falls Economic Improvement Commission at\n\n218-332-5458 or eic@ci.fergus-falls.mn.us
X-ALT-DESC;FMTTYPE=text/html:<span style="font-size: 14px\;"><strong>Forward Fergus Falls Minnesota Invites You </strong></span><br />\n<br />\nAll- Stewards is a group of citizens working to make Fergus Falls an even better place to live for current and future generations.&nbsp\; Our shared destiny - &quot\;Fergus Falls\, a beautiful river city\, leads West Central Minnesota in health services\, business growth\, learning and the arts.&quot\;<br />\n<br />\n<br />\n<strong>Meeting Dates:<br />\n<br />\nJan 8\,2016<br />\nFeb 5\,2016<br />\nMar 4\,2016<br />\nApril 1\, 2016<br />\nMay 6\, 2016</strong><br />\n<br />\n<br />\n<u><strong>All Meetings will be held at Noon</strong></u> in the Keller Williams Realty Office (basement conference room)<br />\n<br />\n<strong>225 W Cavour Ave\, Fergus Falls</strong><br />\n(park in lots east of building)<br />\n<br />\nFor more information contact the <strong>Fergus Falls Economic Improvement Commission </strong>at<br />\n<strong>218-332-5458 </strong>or <a href="mailto:eic@ci.fergus-falls.mn.us"><font color="#0066cc">eic@ci.fergus-falls.mn.us</font></a>
LOCATION:
UID:e.314.28094
SEQUENCE:3
DTSTAMP:20260425T145437Z
URL:https://business.fergusfalls.com/events/details/forward-fergus-falls-minnesota-invites-you-05-06-2016-28094
END:VEVENT

END:VCALENDAR
