BEGIN:VCALENDAR
VERSION:2.0
PRODID:-//ChamberMaster//Event Calendar 2.0//EN
METHOD:PUBLISH
X-PUBLISHED-TTL:P3D
REFRESH-INTERVAL:P3D
CALSCALE:GREGORIAN
BEGIN:VEVENT
DTSTART:20161202T180000Z
DTEND:20161202T190000Z
X-MICROSOFT-CDO-ALLDAYEVENT:FALSE
SUMMARY:Forward Fergus Falls Minnesota Invites You
DESCRIPTION:All- Stewards is a group of citizens working to make Fergus Falls an even better place to live for current and future generations.  Our shared destiny - "Fergus Falls\, a beautiful river city\, leads West Central Minnesota in health services\, business growth\, learning and the arts."\n\n\n\nMeeting Dates:\n\n\n\nSeptember 2\, 2016\n\nOctober 7\, 2016\n\nNovember 4\, 2016\n\nDecember 2\, 2016\n\n\n\nAll Meetings will be held at Noon in the WorkForce Center (back conference room)\n\n\n\n125 Lincoln Ave W\, Fergus Falls\n\n(park in rear)\n\n\n\nFor more information contact the Fergus Falls Economic Improvement Commission at\n\n218-332-5458 or eic@ci.fergus-falls.mn.us
X-ALT-DESC;FMTTYPE=text/html:<span style="font-family:arial\,helvetica\,sans-serif"><span style="color:rgb(63\, 63\, 63)\; font-size:16px">All- Stewards is a group of citizens working to make Fergus Falls an even better place to live for current and future generations.&nbsp\; Our shared destiny - &quot\;Fergus Falls\, a beautiful river city\, leads West Central Minnesota in health services\, business growth\, learning and the arts.&quot\;</span><br />\n<br />\n<span style="color:rgb(63\, 63\, 63)\; font-size:16px">Meeting Dates:<br />\n<br />\nSeptember 2\, 2016<br />\nOctober 7\, 2016<br />\nNovember 4\, 2016<br />\nDecember 2\, 2016</span></span><br />\n<br />\n<span style="font-family:arial\,helvetica\,sans-serif\; font-size:16px"><u><span style="color:inherit">All Meetings will be held at Noon</span></u></span><span style="color:rgb(63\, 63\, 63)\; font-family:arial\,helvetica\,sans-serif\; font-size:16px">&nbsp\;in the WorkForce Center (back conference room)</span><br />\n<br />\n<span style="color:rgb(63\, 63\, 63)\; font-family:arial\,helvetica\,sans-serif\; font-size:16px">125 Lincoln Ave W\, Fergus Falls</span><br />\n<span style="color:rgb(63\, 63\, 63)\; font-family:arial\,helvetica\,sans-serif\; font-size:16px">(park in rear)</span><br />\n<br />\n<span style="font-family:arial\,helvetica\,sans-serif"><span style="color:rgb(63\, 63\, 63)\; font-size:16px">For more information contact the&nbsp\;</span><span style="color:rgb(63\, 63\, 63)\; font-size:16px">Fergus Falls Economic Improvement Commission&nbsp\;</span><span style="color:rgb(63\, 63\, 63)\; font-size:16px">at</span><br />\n<span style="color:rgb(63\, 63\, 63)\; font-size:16px">218-332-5458&nbsp\;</span><span style="color:rgb(63\, 63\, 63)\; font-size:16px">or eic@ci.fergus-falls.mn.us</span></span>
LOCATION:WorkForce Center (back conference room) 125 Lincoln Ave W\, Fergus Falls (park in rear)
UID:e.314.33014
SEQUENCE:3
DTSTAMP:20260425T035113Z
URL:https://business.fergusfalls.com/events/details/forward-fergus-falls-minnesota-invites-you-12-02-2016-33014
END:VEVENT

END:VCALENDAR
